BEGIN:VCALENDAR
VERSION:2.0
PRODID:-//KLMV e.V. - ECPv6.15.20//NONSGML v1.0//EN
CALSCALE:GREGORIAN
METHOD:PUBLISH
X-WR-CALNAME:KLMV e.V.
X-ORIGINAL-URL:https://www.karneval-mv.de
X-WR-CALDESC:Veranstaltungen für KLMV e.V.
REFRESH-INTERVAL;VALUE=DURATION:PT1H
X-Robots-Tag:noindex
X-PUBLISHED-TTL:PT1H
BEGIN:VTIMEZONE
TZID:Europe/Paris
BEGIN:DAYLIGHT
TZOFFSETFROM:+0100
TZOFFSETTO:+0200
TZNAME:CEST
DTSTART:20240331T010000
END:DAYLIGHT
BEGIN:STANDARD
TZOFFSETFROM:+0200
TZOFFSETTO:+0100
TZNAME:CET
DTSTART:20241027T010000
END:STANDARD
BEGIN:DAYLIGHT
TZOFFSETFROM:+0100
TZOFFSETTO:+0200
TZNAME:CEST
DTSTART:20250330T010000
END:DAYLIGHT
BEGIN:STANDARD
TZOFFSETFROM:+0200
TZOFFSETTO:+0100
TZNAME:CET
DTSTART:20251026T010000
END:STANDARD
BEGIN:DAYLIGHT
TZOFFSETFROM:+0100
TZOFFSETTO:+0200
TZNAME:CEST
DTSTART:20260329T010000
END:DAYLIGHT
BEGIN:STANDARD
TZOFFSETFROM:+0200
TZOFFSETTO:+0100
TZNAME:CET
DTSTART:20261025T010000
END:STANDARD
END:VTIMEZONE
BEGIN:VEVENT
DTSTART;TZID=Europe/Paris:20250927T100000
DTEND;TZID=Europe/Paris:20250927T120000
DTSTAMP:20260422T040601
CREATED:20250505T184714Z
LAST-MODIFIED:20250722T125820Z
UID:1287-1758967200-1758974400@www.karneval-mv.de
SUMMARY:Mitgliederversammlung KLMV
DESCRIPTION:Sehr geehrte Präsidentinnen und Präsidenten\,\nwerte Ehrenmitglieder\,\nliebe Karnealfreunde\, \nhiermit lade ich Sie im Namen des Präsidiums des KLMV gem. $4 Abs. 1 b) und Abs. 4 der Satzung des KLMV herzlich\, zu unserer Präsidialtagung (Mitgliederversammlung 2025)\, \nam 27.09.2025\, um 10:00 Uhr\nin das Gemeindezentrum Jabel\n17194 Jabel\, Hoher Damm 13a \nTagesordnung: \n\nBegrüßung und Übergabe an die/den Versammlungsleiter/in\nFeststellen der fristgemäßen Einladung und Beschlussfähigkeit\nBestätigung der Tagesordnung\nMitglied der Sportfamilie in Mecklenburg – Vorpommern – Möglichkeiten\, Voraussetzunge\, Vorteile\nTorsten Haverland\, Geschäftsführer des Landessportbundes MV\nBericht des Präsidenten\nBericht des Schatzmeisters\nPrüfbericht der Kassenprüfer\nAussprasche zu den Berichten\nEntlastung des geschäftsführenden Präsidiums\nBeratung von Anträgen\nFestlegung Ort und Termin der Präsidialtagung 2026\nSchlusswort des Präsidenten\n\nAn die Tagung schließt sich ein lockerer Präsidentenstammtisch an\, zu dem ich Euch herzlich einlade. Herzlichen Dank im Voraus an den gastgebenden Jabeler Carneval Club e.V. \nMit freundlichen Grüßen\nLutz Scherling \nEinladung_MV_KLMV_2025
URL:https://www.karneval-mv.de/event/mitgliederversammlung-klmv
LOCATION:Gemeindehaus Jabel\, Hoher Damm 13a\, Jabel\, 17194
CATEGORIES:KLMV,KLMV-Präsidium,Verein
END:VEVENT
BEGIN:VEVENT
DTSTART;TZID=Europe/Paris:20250927T123000
DTEND;TZID=Europe/Paris:20250927T140000
DTSTAMP:20260422T040601
CREATED:20250923T053838Z
LAST-MODIFIED:20250923T053838Z
UID:1415-1758976200-1758981600@www.karneval-mv.de
SUMMARY:Mitgliederversammlung KLMV-Jugend
DESCRIPTION:
URL:https://www.karneval-mv.de/event/mitgliederversammlung-klmv-jugend
LOCATION:Gemeindehaus Jabel\, Hoher Damm 13a\, Jabel\, 17194
CATEGORIES:KLMV,KLMV-Präsidium,Verein
END:VEVENT
END:VCALENDAR