BEGIN:VCALENDAR
VERSION:2.0
PRODID:-//KLMV e.V. - ECPv6.15.20//NONSGML v1.0//EN
CALSCALE:GREGORIAN
METHOD:PUBLISH
X-ORIGINAL-URL:https://www.karneval-mv.de
X-WR-CALDESC:Veranstaltungen für KLMV e.V.
REFRESH-INTERVAL;VALUE=DURATION:PT1H
X-Robots-Tag:noindex
X-PUBLISHED-TTL:PT1H
BEGIN:VTIMEZONE
TZID:Europe/Paris
BEGIN:DAYLIGHT
TZOFFSETFROM:+0100
TZOFFSETTO:+0200
TZNAME:CEST
DTSTART:20250330T010000
END:DAYLIGHT
BEGIN:STANDARD
TZOFFSETFROM:+0200
TZOFFSETTO:+0100
TZNAME:CET
DTSTART:20251026T010000
END:STANDARD
BEGIN:DAYLIGHT
TZOFFSETFROM:+0100
TZOFFSETTO:+0200
TZNAME:CEST
DTSTART:20260329T010000
END:DAYLIGHT
BEGIN:STANDARD
TZOFFSETFROM:+0200
TZOFFSETTO:+0100
TZNAME:CET
DTSTART:20261025T010000
END:STANDARD
BEGIN:DAYLIGHT
TZOFFSETFROM:+0100
TZOFFSETTO:+0200
TZNAME:CEST
DTSTART:20270328T010000
END:DAYLIGHT
BEGIN:STANDARD
TZOFFSETFROM:+0200
TZOFFSETTO:+0100
TZNAME:CET
DTSTART:20271031T010000
END:STANDARD
END:VTIMEZONE
BEGIN:VEVENT
DTSTART;TZID=Europe/Paris:20260131T190000
DTEND;TZID=Europe/Paris:20260131T233000
DTSTAMP:20260421T204731
CREATED:20251203T062645Z
LAST-MODIFIED:20251203T062645Z
UID:1585-1769886000-1769902200@www.karneval-mv.de
SUMMARY:"Der Letzte macht das Nordlicht aus"
DESCRIPTION:Einladung zum Karneval 2026 \nMotto: „Der Letzte macht das Nordlicht aus“ \nLiebe Närrinnen und Narren\, \nes ist wieder soweit – die fünfte Jahreszeit erreicht ihren Höhepunkt! Unter dem funkelnden Motto „Der Letzte macht das Nordlicht aus“ laden wir euch herzlich zu unserer großen Karnevalsfeier ein. \n\nHauptveranstaltung\n\nSamstag\, 31. Januar 2026\nEinlass: 19:00 Uhr\nBeginn: 20:00 Uhr\n\n\n\nFreut euch auf ein buntes Programm mit Musik\, Tanz\, Showeinlagen und ausgelassener Stimmung bis tief in die Nacht. Lasst euch von der Atmosphäre mitreißen und feiert mit uns\, bis das Nordlicht erlischt!\nKommt zahlreich\, bringt eure Freunde und Familie mit – gemeinsam machen wir diese Karnevalstage unvergesslich!
URL:https://www.karneval-mv.de/event/der-letzte-macht-das-nordlicht-aus
LOCATION:Nordlicht Lichtenhagen\, Ratzeburger Str.8\, Rostock\, 18109
CATEGORIES:Verein
ORGANIZER;CN="Rostocker Karneval Club e.V.":MAILTO:info@rostocker-karneval-club.de
END:VEVENT
END:VCALENDAR