BEGIN:VCALENDAR
VERSION:2.0
PRODID:-//KLMV e.V. - ECPv6.15.20//NONSGML v1.0//EN
CALSCALE:GREGORIAN
METHOD:PUBLISH
X-ORIGINAL-URL:https://www.karneval-mv.de
X-WR-CALDESC:Veranstaltungen für KLMV e.V.
REFRESH-INTERVAL;VALUE=DURATION:PT1H
X-Robots-Tag:noindex
X-PUBLISHED-TTL:PT1H
BEGIN:VTIMEZONE
TZID:Europe/Paris
BEGIN:DAYLIGHT
TZOFFSETFROM:+0100
TZOFFSETTO:+0200
TZNAME:CEST
DTSTART:20250330T010000
END:DAYLIGHT
BEGIN:STANDARD
TZOFFSETFROM:+0200
TZOFFSETTO:+0100
TZNAME:CET
DTSTART:20251026T010000
END:STANDARD
BEGIN:DAYLIGHT
TZOFFSETFROM:+0100
TZOFFSETTO:+0200
TZNAME:CEST
DTSTART:20260329T010000
END:DAYLIGHT
BEGIN:STANDARD
TZOFFSETFROM:+0200
TZOFFSETTO:+0100
TZNAME:CET
DTSTART:20261025T010000
END:STANDARD
BEGIN:DAYLIGHT
TZOFFSETFROM:+0100
TZOFFSETTO:+0200
TZNAME:CEST
DTSTART:20270328T010000
END:DAYLIGHT
BEGIN:STANDARD
TZOFFSETFROM:+0200
TZOFFSETTO:+0100
TZNAME:CET
DTSTART:20271031T010000
END:STANDARD
END:VTIMEZONE
BEGIN:VEVENT
DTSTART;TZID=Europe/Paris:20260201T140000
DTEND;TZID=Europe/Paris:20260201T170000
DTSTAMP:20260421T204603
CREATED:20251203T062946Z
LAST-MODIFIED:20251203T063039Z
UID:1589-1769954400-1769965200@www.karneval-mv.de
SUMMARY:2. Kinderfasching
DESCRIPTION:Liebe Närrinnen und Narren\, \nes ist wieder soweit – die fünfte Jahreszeit erreicht ihren Höhepunkt! Unter dem funkelnden Motto „Der Letzte macht das Nordlicht aus“ laden wir euch herzlich zu unserer großen Karnevalsfeier ein. \nKinderfasching \n\nSonntag\, 1. Februar 2026\nEinlass: 13:00 Uhr\nBeginn: 14:00 Uhr\n\nFür unsere kleinen Jecken gibt es ein eigenes\, fröhliches Kinderfaschingsprogramm mit Spielen\, Musik und jeder Menge Spaß. \nKommt zahlreich\, bringt eure Freunde und Familie mit – gemeinsam machen wir diese Karnevalstage unvergesslich!\nDenn eins ist sicher: Wer nicht dabei ist\, verpasst das Spektakel des Jahres!
URL:https://www.karneval-mv.de/event/1589
LOCATION:Nordlicht Lichtenhagen\, Ratzeburger Str.8\, Rostock\, 18109
CATEGORIES:Verein
ORGANIZER;CN="Rostocker Karneval Club e.V.":MAILTO:info@rostocker-karneval-club.de
END:VEVENT
END:VCALENDAR