BEGIN:VCALENDAR
VERSION:2.0
PRODID:-//KLMV e.V. - ECPv6.15.20//NONSGML v1.0//EN
CALSCALE:GREGORIAN
METHOD:PUBLISH
X-ORIGINAL-URL:https://www.karneval-mv.de
X-WR-CALDESC:Veranstaltungen für KLMV e.V.
REFRESH-INTERVAL;VALUE=DURATION:PT1H
X-Robots-Tag:noindex
X-PUBLISHED-TTL:PT1H
BEGIN:VTIMEZONE
TZID:Europe/Paris
BEGIN:DAYLIGHT
TZOFFSETFROM:+0100
TZOFFSETTO:+0200
TZNAME:CEST
DTSTART:20240331T010000
END:DAYLIGHT
BEGIN:STANDARD
TZOFFSETFROM:+0200
TZOFFSETTO:+0100
TZNAME:CET
DTSTART:20241027T010000
END:STANDARD
BEGIN:DAYLIGHT
TZOFFSETFROM:+0100
TZOFFSETTO:+0200
TZNAME:CEST
DTSTART:20250330T010000
END:DAYLIGHT
BEGIN:STANDARD
TZOFFSETFROM:+0200
TZOFFSETTO:+0100
TZNAME:CET
DTSTART:20251026T010000
END:STANDARD
BEGIN:DAYLIGHT
TZOFFSETFROM:+0100
TZOFFSETTO:+0200
TZNAME:CEST
DTSTART:20260329T010000
END:DAYLIGHT
BEGIN:STANDARD
TZOFFSETFROM:+0200
TZOFFSETTO:+0100
TZNAME:CET
DTSTART:20261025T010000
END:STANDARD
END:VTIMEZONE
BEGIN:VEVENT
DTSTART;VALUE=DATE:20250621
DTEND;VALUE=DATE:20250622
DTSTAMP:20260422T072928
CREATED:20250401T122026Z
LAST-MODIFIED:20250401T122026Z
UID:1248-1750464000-1750550399@www.karneval-mv.de
SUMMARY:Kinderaufbauschlung
DESCRIPTION:
URL:https://www.karneval-mv.de/event/kinderaufbauschlung
LOCATION:Sporthalle Kopenhagener Str. Rostock\, Kopenhagener Str. 5a\, Rostock\, 18107
CATEGORIES:KLMV,Verein
END:VEVENT
BEGIN:VEVENT
DTSTART;TZID=Europe/Paris:20250622T080000
DTEND;TZID=Europe/Paris:20250622T170000
DTSTAMP:20260422T072928
CREATED:20250401T122120Z
LAST-MODIFIED:20250401T122120Z
UID:1250-1750579200-1750611600@www.karneval-mv.de
SUMMARY:Aufbauschulung Solisten
DESCRIPTION:
URL:https://www.karneval-mv.de/event/aufbauschulung-solisten
LOCATION:Sporthalle Kopenhagener Str. Rostock\, Kopenhagener Str. 5a\, Rostock\, 18107
CATEGORIES:KLMV,Verein
END:VEVENT
END:VCALENDAR