BEGIN:VCALENDAR
VERSION:2.0
PRODID:-//KLMV e.V. - ECPv6.15.20//NONSGML v1.0//EN
CALSCALE:GREGORIAN
METHOD:PUBLISH
X-ORIGINAL-URL:https://www.karneval-mv.de
X-WR-CALDESC:Veranstaltungen für KLMV e.V.
REFRESH-INTERVAL;VALUE=DURATION:PT1H
X-Robots-Tag:noindex
X-PUBLISHED-TTL:PT1H
BEGIN:VTIMEZONE
TZID:Europe/Paris
BEGIN:DAYLIGHT
TZOFFSETFROM:+0100
TZOFFSETTO:+0200
TZNAME:CEST
DTSTART:20240331T010000
END:DAYLIGHT
BEGIN:STANDARD
TZOFFSETFROM:+0200
TZOFFSETTO:+0100
TZNAME:CET
DTSTART:20241027T010000
END:STANDARD
BEGIN:DAYLIGHT
TZOFFSETFROM:+0100
TZOFFSETTO:+0200
TZNAME:CEST
DTSTART:20250330T010000
END:DAYLIGHT
BEGIN:STANDARD
TZOFFSETFROM:+0200
TZOFFSETTO:+0100
TZNAME:CET
DTSTART:20251026T010000
END:STANDARD
BEGIN:DAYLIGHT
TZOFFSETFROM:+0100
TZOFFSETTO:+0200
TZNAME:CEST
DTSTART:20260329T010000
END:DAYLIGHT
BEGIN:STANDARD
TZOFFSETFROM:+0200
TZOFFSETTO:+0100
TZNAME:CET
DTSTART:20261025T010000
END:STANDARD
END:VTIMEZONE
BEGIN:VEVENT
DTSTART;TZID=Europe/Paris:20250802T170000
DTEND;TZID=Europe/Paris:20250802T233000
DTSTAMP:20260422T040749
CREATED:20250409T063945Z
LAST-MODIFIED:20250409T065014Z
UID:1273-1754154000-1754177400@www.karneval-mv.de
SUMMARY:Sommerfest der Karnevalvereine
DESCRIPTION:EinladungSommerfest \nLiebe Karnevalsfreundinnen und -freunde\, \nSommerzeit ist Karnevalszeit?! Absolut! Und das sollten wir gemeinsam feiern! \nWir laden Euch herzlich zu unserem Sommerfest der Karnevalvereine ein. Unser Ziel ist es auch außerhalb der Session den Kontakt zu euch aufrechtzuerhalten\, über die vergangenen Monate zu reden und von der nächsten Session zu träumen.\nDeswegen lädt der SNC Euch ein! \nDatum: 02.08.2025\nOrt: Am Moorweg 35\, 18190 Sanitz\nBeginn: 17 Uhr \nWir veranstalten das Fest mithilfe der Eventlocation Uferglück. Freut Euch auf kühle Drinks\, leckeres Essen und natürlich beste Stimmung mit Musik und tollen Aktionen (für einen bezahlbaren Preis) !  \nBitte gebt uns bis zum 20.04.2025 Bescheid\, ob und mit wie vielen Personen ihr dabei seid. Nach Eurer Rückmeldung erhaltet ihr weitere Details\, u.a. zur Bezahlung der Unkostenpauschale von 5€ p.P. \nWir freuen uns auf euch! \nEuer Sanitzer Narren Club  \nAmsprechpartner: Marvin Zirnsak (+491726955328)
URL:https://www.karneval-mv.de/event/sommerfest-der-karnevalvereine
LOCATION:Uferglück\, Am Moorweg 35\, Sanitz\, 18190
CATEGORIES:KLMV,Verein
ORGANIZER;CN="Sanitzer Narren Club e.V.":MAILTO:marvin.zirnsak@gmail.com
END:VEVENT
END:VCALENDAR