BEGIN:VCALENDAR
VERSION:2.0
PRODID:-//KLMV e.V. - ECPv6.15.20//NONSGML v1.0//EN
CALSCALE:GREGORIAN
METHOD:PUBLISH
X-ORIGINAL-URL:https://www.karneval-mv.de
X-WR-CALDESC:Veranstaltungen für KLMV e.V.
REFRESH-INTERVAL;VALUE=DURATION:PT1H
X-Robots-Tag:noindex
X-PUBLISHED-TTL:PT1H
BEGIN:VTIMEZONE
TZID:Europe/Paris
BEGIN:DAYLIGHT
TZOFFSETFROM:+0100
TZOFFSETTO:+0200
TZNAME:CEST
DTSTART:20240331T010000
END:DAYLIGHT
BEGIN:STANDARD
TZOFFSETFROM:+0200
TZOFFSETTO:+0100
TZNAME:CET
DTSTART:20241027T010000
END:STANDARD
BEGIN:DAYLIGHT
TZOFFSETFROM:+0100
TZOFFSETTO:+0200
TZNAME:CEST
DTSTART:20250330T010000
END:DAYLIGHT
BEGIN:STANDARD
TZOFFSETFROM:+0200
TZOFFSETTO:+0100
TZNAME:CET
DTSTART:20251026T010000
END:STANDARD
BEGIN:DAYLIGHT
TZOFFSETFROM:+0100
TZOFFSETTO:+0200
TZNAME:CEST
DTSTART:20260329T010000
END:DAYLIGHT
BEGIN:STANDARD
TZOFFSETFROM:+0200
TZOFFSETTO:+0100
TZNAME:CET
DTSTART:20261025T010000
END:STANDARD
END:VTIMEZONE
BEGIN:VEVENT
DTSTART;TZID=Europe/Paris:20251108T201100
DTEND;TZID=Europe/Paris:20251108T233000
DTSTAMP:20260421T224120
CREATED:20251110T071033Z
LAST-MODIFIED:20251125T101952Z
UID:1562-1762632660-1762644600@www.karneval-mv.de
SUMMARY:Karnevalsauftakt in der Sporthalle Krakow am See
DESCRIPTION:
URL:https://www.karneval-mv.de/event/karnevalsauftakt-in-der-sporthalle-krakow-am-see
LOCATION:Sporthalle der Naturpark-Schule Krakow am See\, Dobbiner Chaussee 7\, Krakow am See\, 18292
CATEGORIES:Verein
ORGANIZER;CN="Krakower Karnevalsclub e.V.":MAILTO:praesident@krakower-karnevalclub.de
END:VEVENT
BEGIN:VEVENT
DTSTART;TZID=Europe/Paris:20251111T111100
DTEND;TZID=Europe/Paris:20251111T170000
DTSTAMP:20260421T224120
CREATED:20250929T090005Z
LAST-MODIFIED:20250929T090005Z
UID:1459-1762859460-1762880400@www.karneval-mv.de
SUMMARY:Zentrale Sessionseröffnung in Wismar
DESCRIPTION:
URL:https://www.karneval-mv.de/event/zentrale-sessionseroeffnung-in-wismar
CATEGORIES:KLMV,KLMV-Präsidium,Verein
END:VEVENT
BEGIN:VEVENT
DTSTART;TZID=Europe/Paris:20251111T111100
DTEND;TZID=Europe/Paris:20251111T233000
DTSTAMP:20260421T224120
CREATED:20251110T071252Z
LAST-MODIFIED:20251110T071252Z
UID:1565-1762859460-1762903800@www.karneval-mv.de
SUMMARY:NKCC Saisoneröffnung
DESCRIPTION:
URL:https://www.karneval-mv.de/event/nkcc-saisoneroeffnung
LOCATION:Mehrzweckhalle Neu Kaliß\, Schulstraße 29\, Neu Kaliß\, 19294
CATEGORIES:Verein
ORGANIZER;CN="Neu Kali%C3%9Fer Carneval Club e.V.":MAILTO:a.gorgulu@outlook.de
END:VEVENT
BEGIN:VEVENT
DTSTART;TZID=Europe/Paris:20251115T080000
DTEND;TZID=Europe/Paris:20251115T171700
DTSTAMP:20260421T224120
CREATED:20251006T053957Z
LAST-MODIFIED:20251006T053957Z
UID:1491-1763193600-1763227020@www.karneval-mv.de
SUMMARY:46. Sessionseröffnung des Sukower Carneval Club 1980 e.V.
DESCRIPTION:Lange haben wir darauf gewartet. Bald ist es endlich so weit!\nNicht mehr lange\, dann starten wir in die 46. Session! \nZur Eröffnung laden wir euch alle herzlich ein. Also schnell den Kalender aufschlagen und den Termin fett eintragen! \nDer Eintritt ist frei\, und für Speis & Trank ist natürlich bestens gesorgt – dank unserem Verein!  \nWir freuen uns auf euch und auf einen grandiosen Start in die neue Session!  \nSukow Hau-Rin
URL:https://www.karneval-mv.de/event/46-sessionseroeffnung-des-sukower-carneval-club-1980-e-v
LOCATION:Dorfgemeinschaftshaus Sukow\, Am Dorfplatz 13\, Sukow\, 19079
CATEGORIES:Verein
ORGANIZER;CN="Sukower Carneval Club e.V.":MAILTO:info@scc-1980.de
END:VEVENT
BEGIN:VEVENT
DTSTART;TZID=Europe/Paris:20251115T191100
DTEND;TZID=Europe/Paris:20251115T233000
DTSTAMP:20260421T224120
CREATED:20251110T070108Z
LAST-MODIFIED:20251110T070108Z
UID:1552-1763233860-1763249400@www.karneval-mv.de
SUMMARY:Sessionseröffnung der Faschings-Narren Schwerin e.V.
DESCRIPTION:Kontakt über\nDoreen Jenczewski-Sponholz\nFaschings-narren-sn@web.de
URL:https://www.karneval-mv.de/event/sessionseroeffnung-der-faschings-narren-schwerin-e-v
LOCATION:Turnhalle des Mecklenburgischen Förderzentrum\, Ratzeburger Straße 31\, Schwerin\, 19057
CATEGORIES:Verein
ORGANIZER;CN="Faschings-Narren Schwerin e.V.":MAILTO:faschings-narren-sn@web.de
END:VEVENT
BEGIN:VEVENT
DTSTART;TZID=Europe/Paris:20251115T191100
DTEND;TZID=Europe/Paris:20251115T233000
DTSTAMP:20260421T224120
CREATED:20251110T071408Z
LAST-MODIFIED:20251110T071408Z
UID:1569-1763233860-1763249400@www.karneval-mv.de
SUMMARY:NKCC 1. Programmveranstaltung
DESCRIPTION:
URL:https://www.karneval-mv.de/event/nkcc-1-programmveranstaltung
LOCATION:Mehrzweckhalle Neu Kaliß\, Schulstraße 29\, Neu Kaliß\, 19294
CATEGORIES:Verein
ORGANIZER;CN="Neu Kali%C3%9Fer Carneval Club e.V.":MAILTO:a.gorgulu@outlook.de
END:VEVENT
BEGIN:VEVENT
DTSTART;TZID=Europe/Paris:20251115T201100
DTEND;TZID=Europe/Paris:20251115T233000
DTSTAMP:20260421T224120
CREATED:20250923T052402Z
LAST-MODIFIED:20250923T052633Z
UID:1405-1763237460-1763249400@www.karneval-mv.de
SUMMARY:Nachtwäscheball des DKK
DESCRIPTION:Es geht wieder los! \nEndlich wieder Karneval in Bad Doberan.  \nUnd das feiern wir mit einer Abendveranstaltung in der Sporthalle am Busbahnhof.\nFreut euch auf unseren “Nachtwäscheball” und ein buntes Programm ganz wie ihr es von uns gewohnt seid! \nEinlass: 19.00 Uhr\nBeginn: 20.11 Uhr\nTicketpreis: 18€ (Mitgliedsvereine des KLMV erhalten 5 Freikarten für unsere Veranstaltung) \nAnmeldungen unter post@karneval-doberan.de oder telefonisch an Paulina Sprenger 0172/8511173 \nWir freuen uns auf Euch!
URL:https://www.karneval-mv.de/event/nachtwaescheball-des-dkk
LOCATION:Sporthalle am Busbahnhof Bad Doberan\, Beethovenstr\, Bad Doberan\, 18209
CATEGORIES:Verein
ORGANIZER;CN="Bad Doberaner Karnevalklub 88 e.V.":MAILTO:post@karneval-doberan.de
END:VEVENT
BEGIN:VEVENT
DTSTART;TZID=Europe/Paris:20251122T111100
DTEND;TZID=Europe/Paris:20251122T233000
DTSTAMP:20260421T224120
CREATED:20251110T071457Z
LAST-MODIFIED:20251110T071457Z
UID:1572-1763809860-1763854200@www.karneval-mv.de
SUMMARY:NKCC 2. Programmveranstaltung
DESCRIPTION:
URL:https://www.karneval-mv.de/event/nkcc-2-programmveranstaltung
LOCATION:Mehrzweckhalle Neu Kaliß\, Schulstraße 29\, Neu Kaliß\, 19294
CATEGORIES:Verein
ORGANIZER;CN="Neu Kali%C3%9Fer Carneval Club e.V.":MAILTO:a.gorgulu@outlook.de
END:VEVENT
END:VCALENDAR