BEGIN:VCALENDAR
VERSION:2.0
PRODID:-//KLMV e.V. - ECPv6.15.20//NONSGML v1.0//EN
CALSCALE:GREGORIAN
METHOD:PUBLISH
X-WR-CALNAME:KLMV e.V.
X-ORIGINAL-URL:https://www.karneval-mv.de
X-WR-CALDESC:Veranstaltungen für KLMV e.V.
REFRESH-INTERVAL;VALUE=DURATION:PT1H
X-Robots-Tag:noindex
X-PUBLISHED-TTL:PT1H
BEGIN:VTIMEZONE
TZID:Europe/Paris
BEGIN:DAYLIGHT
TZOFFSETFROM:+0100
TZOFFSETTO:+0200
TZNAME:CEST
DTSTART:20240331T010000
END:DAYLIGHT
BEGIN:STANDARD
TZOFFSETFROM:+0200
TZOFFSETTO:+0100
TZNAME:CET
DTSTART:20241027T010000
END:STANDARD
BEGIN:DAYLIGHT
TZOFFSETFROM:+0100
TZOFFSETTO:+0200
TZNAME:CEST
DTSTART:20250330T010000
END:DAYLIGHT
BEGIN:STANDARD
TZOFFSETFROM:+0200
TZOFFSETTO:+0100
TZNAME:CET
DTSTART:20251026T010000
END:STANDARD
BEGIN:DAYLIGHT
TZOFFSETFROM:+0100
TZOFFSETTO:+0200
TZNAME:CEST
DTSTART:20260329T010000
END:DAYLIGHT
BEGIN:STANDARD
TZOFFSETFROM:+0200
TZOFFSETTO:+0100
TZNAME:CET
DTSTART:20261025T010000
END:STANDARD
END:VTIMEZONE
BEGIN:VEVENT
DTSTART;TZID=Europe/Paris:20251019T100000
DTEND;TZID=Europe/Paris:20251019T143000
DTSTAMP:20260422T122741
CREATED:20250929T084328Z
LAST-MODIFIED:20250929T085703Z
UID:1451-1760868000-1760884200@www.karneval-mv.de
SUMMARY:Prinzenpaar Workshop
DESCRIPTION:
URL:https://www.karneval-mv.de/event/prinzenpaar-workshop
LOCATION:Golchener Hof\, Golchener Hof 1\, Golchen\, 19412
CATEGORIES:KLMV,KLMV-Präsidium,Verein
END:VEVENT
END:VCALENDAR